BEGIN:VCALENDAR
VERSION:2.0
PRODID:Events Booking
BEGIN:VEVENT
UID:69e4ea1b53bfb
SUMMARY:XRWD Social / Quiz
DESCRIPTION:Social evening with quiz on trivia\, and climate emergency. Pri
 ze of home grown produce hamper for the winner. NB we will be in the Snug 
 room of the White Horse
LOCATION:4 Clarendon Avenue\, Leamington Spa\, CV32 5PZ
DTSTART:20231128T190000Z
DTSTAMP:20231115T174324Z
ORGANIZER;CN=XRWD:MAILTO:xrwarwickdistrict@protonmail.com
GEO:52.293517;-1.538019
X-APPLE-STRUCTURED-LOCATION;VALUE=URI;X-ADDRESS=4 Clarendon Avenue\, Leamin
 gton Spa\, CV32 5PZ;X-APPLE-RADIUS=72;X-TITLE=White Horse Leamington:52.29
 3517;-1.538019
END:VEVENT
END:VCALENDAR