BEGIN:VCALENDAR
VERSION:2.0
PRODID:Events Booking
BEGIN:VEVENT
UID:69e4ff5f116d1
SUMMARY:Regional XR Action Group Meeting
DESCRIPTION:This is the first in what will be a regular monthly meeting for
  XR members from Warwick District and neighbouring groups such as Stratfor
 d and Coventry to catch up and share news and ideas with each other.
 Joi
 n the Zoom Meeting using this link
 Meeting ID: 840 0894 3782\, Passcode:
  360625
 Future meetings will be every 2nd Wednesday of the month
DTSTART:20210113T190000Z
DTEND:20210113T200000Z
DTSTAMP:20260419T171423Z
ORGANIZER;CN=XRWD:MAILTO:xrwarwickdistrict@protonmail.com
END:VEVENT
END:VCALENDAR