BEGIN:VCALENDAR
VERSION:2.0
PRODID:Events Booking
BEGIN:VEVENT
UID:69e4fe5834e9f
SUMMARY:People's Assembly Facilitator Training
DESCRIPTION:XR Midlands are running three online People's Assembly Facilita
 tor Training
 
 Booking is free but essential. Book your place now throu
 gh Eventbrite:
 
DTSTART:20200331T133000Z
DTEND:20200331T163000Z
DTSTAMP:20260419T171000Z
ORGANIZER;CN=XRWD:MAILTO:xrwarwickdistrict@protonmail.com
END:VEVENT
END:VCALENDAR