BEGIN:VCALENDAR
VERSION:2.0
PRODID:Events Booking
BEGIN:VEVENT
UID:69e4fe2edb49f
SUMMARY:People's Assembly Facilitator Training
DESCRIPTION:XR Midlands are running three online People's Assembly Facilita
 tor Training
 
 Booking is free but essential. Book your place now throu
 gh Eventbrite:
 
DTSTART:20200330T001400Z
DTEND:20200330T123000Z
DTSTAMP:20260419T170918Z
ORGANIZER;CN=XRWD:MAILTO:xrwarwickdistrict@protonmail.com
END:VEVENT
END:VCALENDAR