BEGIN:VCALENDAR
VERSION:2.0
PRODID:Events Booking
BEGIN:VEVENT
UID:69e4d604e8f66
SUMMARY:Outreach for Restore Nature Now Coach
DESCRIPTION:On the corner near Costa. Outreach to tell people about Restore
  Nature Now and the coach we are organising. All welcome.&nbsp\;&nbsp\;htt
 ps://www.restorenaturenow.com/
LOCATION:Market Street\,Warwick\, CV34 4SH
DTSTART:20240504T110000Z
DTSTAMP:20240425T055320Z
ORGANIZER;CN=XRWD:MAILTO:xrwarwickdistrict@protonmail.com
GEO:52.281633;-1.591072
X-APPLE-STRUCTURED-LOCATION;VALUE=URI;X-ADDRESS=Market Street\,Warwick\, CV
 34 4SH;X-APPLE-RADIUS=72;X-TITLE=Market Street\, Warwick:52.281633;-1.5910
 72
END:VEVENT
END:VCALENDAR