BEGIN:VCALENDAR
VERSION:2.0
PRODID:Events Booking
BEGIN:VEVENT
UID:69e4d663bff82
SUMMARY:Outreach for Restore Nature Now bus Leam
DESCRIPTION:Leamington Town Hall. Outreach to tell people about Restore Nat
 ure Now and the coach we are organising. All welcome details here&nbsp\;ht
 tps://xrb.link/vG16tD15e
LOCATION:Parade\, Leamington Spa CV32 4AT
DTSTART:20240608T110000Z
DTSTAMP:20240523T054023Z
ORGANIZER;CN=XRWD:MAILTO:xrwarwickdistrict@protonmail.com
GEO:52.289251;-1.535031
X-APPLE-STRUCTURED-LOCATION;VALUE=URI;X-ADDRESS=Parade\, Leamington Spa CV3
 2 4AT;X-APPLE-RADIUS=72;X-TITLE=Leamington Town Hall:52.289251;-1.535031
END:VEVENT
END:VCALENDAR