BEGIN:VCALENDAR
VERSION:2.0
PRODID:Events Booking
BEGIN:VEVENT
UID:69e4fca0382c9
SUMMARY:NVDA training
DESCRIPTION:Come along to our Non-Violent Direct Action (NVDA) workshop\, w
 here you will learn about the history of Civil Disobedience\, theories of 
 Non-Violence\, and various NVDA skills such as how to talk to the police\,
  how to block a road\, and how to use your support systems.
 This worksho
 p takes 3hrs\, and includes 2 x 15 minute breaks – please arrive on time
 !
 ➡️ Zoom link to register
 ➡️ Facebook Event
DTSTART:20201212T100000Z
DTEND:20201212T130000Z
DTSTAMP:20260419T170240Z
ORGANIZER;CN=XRWD:MAILTO:xrwarwickdistrict@protonmail.com
END:VEVENT
END:VCALENDAR