BEGIN:VCALENDAR
VERSION:2.0
PRODID:Events Booking
BEGIN:VEVENT
UID:69e512f0c9d08
SUMMARY:NVDA Training
DESCRIPTION:Come along to our Non-Violent Direct Action (NVDA) workshop\, w
 here you will learn about the history of Civil Disobedience\, theories of 
 Non-Violence\, and various NVDA skills such as how to talk to the police\,
  how to block a road\, and how to use your support systems.
 ➡️ &nbsp
 \;REGISTER FOR ZOOM&nbsp\;HERE➡️ &nbsp\;FACEBOOK EVENT
DTSTART:20210228T100000Z
DTSTAMP:20260419T183752Z
ORGANIZER;CN=XRWD:MAILTO:xrwarwickdistrict@protonmail.com
END:VEVENT
END:VCALENDAR