BEGIN:VCALENDAR
VERSION:2.0
PRODID:Events Booking
BEGIN:VEVENT
UID:69e5014f7844c
SUMMARY:2021 XR UK STRATEGY
DESCRIPTION:MIDLANDS PEOPLE’S ASSEMBLEY
 Have your say on Extinction Reb
 ellion's strategy?&nbsp\;
 Yes this is an exciting invitation to all Midl
 ands Rebels to have their say on the UK Strategy Assembly Process.&nbsp\; 
 The UK Strategy Assembly is made of representatives from XR UK's Nations a
 nd Regions\, Operations and Support Circles and Rebels from underrepresent
 ed communities. &nbsp\;It is currently underway with an intensive process 
 to develop a strategy for 2021 to discuss topics such as Community Buildin
 g\, Onboarding\, Outreach and so much more and the feedback and input from
  all Rebels is key to making a beautiful\, powerful strategy that we can a
 ll get behind.
DTSTART:20201219T170000Z
DTEND:20201219T190000Z
DTSTAMP:20260419T172239Z
ORGANIZER;CN=XRWD:MAILTO:xrwarwickdistrict@protonmail.com
END:VEVENT
END:VCALENDAR