BEGIN:VCALENDAR
VERSION:2.0
PRODID:Events Booking
BEGIN:VEVENT
UID:69e5e5bb0a178
SUMMARY:Howden: Insure Our Survival
DESCRIPTION:Insure Our Survival: outreach to talk to people outside Howden 
 Insurance on the parade. XR's campaign is to pressure insurance companies 
 to stop insuring new fossil fuel projects\, which has already seen success
  with Zurich and Probitas. Howden may well be next!
LOCATION:The Parade\, Leamington Spa CV32 4AE
DTSTART:20250125T100000Z
DTSTAMP:20241212T074150Z
ORGANIZER;CN=XRWD:MAILTO:xrwarwickdistrict@protonmail.com
GEO:52.288714;-1.535105
X-APPLE-STRUCTURED-LOCATION;VALUE=URI;X-ADDRESS=The Parade\, Leamington Spa
  CV32 4AE;X-APPLE-RADIUS=72;X-TITLE=Howden Insurance:52.288714;-1.535105
END:VEVENT
END:VCALENDAR