BEGIN:VCALENDAR
VERSION:2.0
PRODID:Events Booking
BEGIN:VEVENT
UID:69e4fd2767899
SUMMARY:Heading for Extinction Talk
DESCRIPTION:Are you new to XR ??Do you have friends\, colleagues or family 
 who want to know more&nbsp\;??
 THIS TALK WILL CHANGE YOUR LIFEThe \"Head
 ing for Extinction\" talk will kickstart your journey in XR.
 
 We will 
 take a walk through the science of the climate and ecological emergency to
  understand the enormity of the situation we are in. Then we will introduc
 e Extinction Rebellion's approach to bringing about the change we need.
 
 
 
 &nbsp\;
 
 
 ➡️ Register for the&nbsp\;ZOOM MEETING HERE&nbsp
 \;before the event.➡️&nbsp\;Facebook event&nbsp\;if you want to help s
 hare this event far and wide!
 
DTSTART:20201222T193000Z
DTSTAMP:20260419T170455Z
ORGANIZER;CN=XRWD:MAILTO:xrwarwickdistrict@protonmail.com
END:VEVENT
END:VCALENDAR