BEGIN:VCALENDAR
VERSION:2.0
PRODID:Events Booking
BEGIN:VEVENT
UID:69e4c41c1a0a7
SUMMARY:Coordination Group Meeting
DESCRIPTION:
LOCATION:33 Bath St\, Leamington Spa CV31 3AF
DTSTART:20200530T153000Z
DTEND:20200530T170000Z
DTSTAMP:20260419T130132Z
ORGANIZER;CN=XRWD:MAILTO:xrwarwickdistrict@protonmail.com
GEO:52.284981;-1.532507
X-APPLE-STRUCTURED-LOCATION;VALUE=URI;X-ADDRESS=33 Bath St\, Leamington Spa
  CV31 3AF;X-APPLE-RADIUS=72;X-TITLE=Temperance:52.284981;-1.532507
END:VEVENT
END:VCALENDAR