BEGIN:VCALENDAR
VERSION:2.0
PRODID:Events Booking
BEGIN:VEVENT
UID:69e4c43b6dd9a
SUMMARY:Coordination Group Meeting
DESCRIPTION:
DTSTART:20200327T183000Z
DTEND:20200327T200000Z
DTSTAMP:20260419T130203Z
ORGANIZER;CN=XRWD:MAILTO:xrwarwickdistrict@protonmail.com
END:VEVENT
END:VCALENDAR