BEGIN:VCALENDAR
VERSION:2.0
PRODID:Events Booking
BEGIN:VEVENT
UID:69e4c5b2943b8
SUMMARY:Coordination Group Meeting
DESCRIPTION:
DTSTART:20200214T183000Z
DTEND:20200214T200000Z
DTSTAMP:20260419T130818Z
ORGANIZER;CN=XRWD:MAILTO:xrwarwickdistrict@protonmail.com
END:VEVENT
END:VCALENDAR