BEGIN:VCALENDAR
VERSION:2.0
PRODID:Events Booking
BEGIN:VEVENT
UID:69e4c5160c1cd
SUMMARY:Coordination Group Meeting
DESCRIPTION:
DTSTART:20200410T183000Z
DTEND:20200410T200000Z
DTSTAMP:20260419T130542Z
ORGANIZER;CN=XRWD:MAILTO:xrwarwickdistrict@protonmail.com
END:VEVENT
END:VCALENDAR