BEGIN:VCALENDAR
VERSION:2.0
PRODID:Events Booking
BEGIN:VEVENT
UID:69e4c48db3ddd
SUMMARY:Comms & Media WG Meeting
DESCRIPTION:
DTSTART:20201008T200000Z
DTEND:20201008T210000Z
DTSTAMP:20260419T130325Z
ORGANIZER;CN=XRWD:MAILTO:xrwarwickdistrict@protonmail.com
END:VEVENT
END:VCALENDAR