BEGIN:VCALENDAR
VERSION:2.0
PRODID:Events Booking
BEGIN:VEVENT
UID:69e4c21c3ff31
SUMMARY:Comms & Media WG Meeting
DESCRIPTION:Join url https://zoom.us/j/92033707357
DTSTART:20200507T201500Z
DTEND:20200507T210000Z
DTSTAMP:20260419T125300Z
ORGANIZER;CN=XRWD:MAILTO:xrwarwickdistrict@protonmail.com
END:VEVENT
END:VCALENDAR