BEGIN:VCALENDAR
VERSION:2.0
PRODID:Events Booking
BEGIN:VEVENT
UID:69e4d604ea0c6
SUMMARY:Comms & Media WG Meeting
DESCRIPTION:
DTSTART:20200903T200000Z
DTEND:20200903T210000Z
DTSTAMP:20260419T141756Z
ORGANIZER;CN=XRWD:MAILTO:xrwarwickdistrict@protonmail.com
END:VEVENT
END:VCALENDAR