BEGIN:VCALENDAR
VERSION:2.0
PRODID:Events Booking
BEGIN:VEVENT
UID:69e4c2b354b6a
SUMMARY:Comms & Media WG Meeting
DESCRIPTION:
DTSTART:20200723T200000Z
DTEND:20200723T210000Z
DTSTAMP:20260419T125531Z
ORGANIZER;CN=XRWD:MAILTO:xrwarwickdistrict@protonmail.com
END:VEVENT
END:VCALENDAR