BEGIN:VCALENDAR
VERSION:2.0
PRODID:Events Booking
BEGIN:VEVENT
UID:69e4c259941e9
SUMMARY:Comms & Media WG Meeting
DESCRIPTION:
DTSTART:20200521T201500Z
DTEND:20200521T210000Z
DTSTAMP:20260419T125401Z
ORGANIZER;CN=XRWD:MAILTO:xrwarwickdistrict@protonmail.com
END:VEVENT
END:VCALENDAR