BEGIN:VCALENDAR
VERSION:2.0
PRODID:Events Booking
BEGIN:VEVENT
UID:69e4d5f97db39
SUMMARY:Comms & Media WG Meeting
DESCRIPTION:
DTSTART:20200820T200000Z
DTEND:20200820T210000Z
DTSTAMP:20260419T141745Z
ORGANIZER;CN=XRWD:MAILTO:xrwarwickdistrict@protonmail.com
END:VEVENT
END:VCALENDAR