BEGIN:VCALENDAR
VERSION:2.0
PRODID:Events Booking
BEGIN:VEVENT
UID:69e4d53c0601a
SUMMARY:Comms & Media WG Meeting
DESCRIPTION:
DTSTART:20200326T201500Z
DTEND:20200326T210000Z
DTSTAMP:20260419T141436Z
ORGANIZER;CN=XRWD:MAILTO:xrwarwickdistrict@protonmail.com
END:VEVENT
END:VCALENDAR