BEGIN:VCALENDAR
VERSION:2.0
PRODID:Events Booking
BEGIN:VEVENT
UID:69e4d53c42110
SUMMARY:Air Pollution Outreach
DESCRIPTION:We will be helping fellow citizens understand the level of air 
 pollution in their area using&nbsp\;https://addresspollution.org/&nbsp\;an
 d mapping the results.
LOCATION:Parade\, Leamington Spa CV32 4AT
DTSTART:20231217T120000Z
DTEND:20231217T150000Z
DTSTAMP:20231109T084415Z
ORGANIZER;CN=XRWD:MAILTO:xrwarwickdistrict@protonmail.com
GEO:52.289251;-1.535031
X-APPLE-STRUCTURED-LOCATION;VALUE=URI;X-ADDRESS=Parade\, Leamington Spa CV3
 2 4AT;X-APPLE-RADIUS=72;X-TITLE=Leamington Town Hall:52.289251;-1.535031
END:VEVENT
END:VCALENDAR