BEGIN:VCALENDAR
VERSION:2.0
PRODID:Events Booking
BEGIN:VEVENT
UID:69e4d5f40943d
SUMMARY:Air Pollution Outreach Kenilworth
DESCRIPTION:Kenilworth. Precise location tbc .We will be helping fellow cit
 izens understand the level of air pollution in their area using&nbsp\;http
 s://addresspollution.org/&nbsp\;and mapping the results.
DTSTART:20240413T110000Z
DTSTAMP:20240329T150839Z
ORGANIZER;CN=XRWD:MAILTO:xrwarwickdistrict@protonmail.com
END:VEVENT
END:VCALENDAR