BEGIN:VCALENDAR
VERSION:2.0
PRODID:Events Booking
BEGIN:VEVENT
UID:69e4d53c04b26
SUMMARY:Air Pollution Outreach
DESCRIPTION:Outside Costa\, Market St Warwick .We will be helping fellow ci
 tizens understand the level of air pollution in their area using&nbsp\;htt
 ps://addresspollution.org/&nbsp\;and mapping the results.
LOCATION:Market Street\,Warwick\, CV34 4SH
DTSTART:20240224T110000Z
DTSTAMP:20240121T073758Z
ORGANIZER;CN=XRWD:MAILTO:xrwarwickdistrict@protonmail.com
GEO:52.281633;-1.591072
X-APPLE-STRUCTURED-LOCATION;VALUE=URI;X-ADDRESS=Market Street\,Warwick\, CV
 34 4SH;X-APPLE-RADIUS=72;X-TITLE=Market Street\, Warwick:52.281633;-1.5910
 72
END:VEVENT
END:VCALENDAR