BEGIN:VCALENDAR
VERSION:2.0
PRODID:Events Booking
BEGIN:VEVENT
UID:69e4fdc452d92
SUMMARY:Actions Working Group
DESCRIPTION:
DTSTART:20200826T203000Z
DTEND:20200826T213000Z
DTSTAMP:20260419T170732Z
ORGANIZER;CN=XRWD:MAILTO:xrwarwickdistrict@protonmail.com
END:VEVENT
END:VCALENDAR