BEGIN:VCALENDAR
VERSION:2.0
PRODID:Events Booking
BEGIN:VEVENT
UID:69e4fdb9d0526
SUMMARY:Actions Working Group
DESCRIPTION:
DTSTART:20200819T203000Z
DTEND:20200819T213000Z
DTSTAMP:20260419T170721Z
ORGANIZER;CN=XRWD:MAILTO:xrwarwickdistrict@protonmail.com
END:VEVENT
END:VCALENDAR