BEGIN:VCALENDAR
VERSION:2.0
PRODID:Events Booking
BEGIN:VEVENT
UID:69e4c44415145
SUMMARY:Actions WG Meeting
DESCRIPTION:
DTSTART:20200323T173000Z
DTEND:20200323T183000Z
DTSTAMP:20260419T130212Z
ORGANIZER;CN=XRWD:MAILTO:xrwarwickdistrict@protonmail.com
END:VEVENT
END:VCALENDAR