BEGIN:VCALENDAR
VERSION:2.0
PRODID:Events Booking
BEGIN:VEVENT
UID:69e4ce38a528e
SUMMARY:To be rescheduled - Introduction to XR
DESCRIPTION:THIS EVENT IS TO BE RESCHEDULED AT A LATER DATE
DTSTART:20200220T000000Z
DTSTAMP:20260419T134440Z
ORGANIZER;CN=XRWD:MAILTO:xrwarwickdistrict@protonmail.com
END:VEVENT
END:VCALENDAR